BEGIN:VCALENDAR
VERSION:2.0
PRODID:-//event_calendar//Drupal//CZ
CALSCALE:GREGORIAN
BEGIN:VEVENT
UID:svatomartinske_slavnosti_na_safari@www.safariresort.cz
DTSTAMP:20260422T084046Z
DTSTART:20261107T090000Z
DTEND:20261108T180000Z
SUMMARY:Svatomartinské slavnosti na Safari
DESCRIPTION:Srdečně Vás zveme k bohatě prostřenému stolu! Přijďte oslavit svatého Martina tam\, kde to voní pečenou husou a kde se víno pije v obklopení přírody – do Safari Resortu!
URL:https://www.safariresort.cz/aktuality/svatomartinske-slavnosti-na-safari
END:VEVENT
END:VCALENDAR
