BEGIN:VCALENDAR
VERSION:2.0
PRODID:-//event_calendar//Drupal//CZ
CALSCALE:GREGORIAN
BEGIN:VEVENT
UID:sraz_amerik_na_safari@www.safariresort.cz
DTSTAMP:20260422T083335Z
DTSTART:20260509T083000Z
DTEND:20260509T150000Z
SUMMARY:Sraz Amerik na Safari
DESCRIPTION:Srdečně Vás zveme na úplně první ročník jedinečné akce\, kde se svět mohutných amerických aut potkává s dobrodružstvím safari!
URL:https://www.safariresort.cz/aktuality/sraz-amerik-na-safari
END:VEVENT
END:VCALENDAR
