BEGIN:VCALENDAR
VERSION:2.0
PRODID:-//event_calendar//Drupal//CZ
CALSCALE:GREGORIAN
BEGIN:VEVENT
UID:safari_run_2026@www.safariresort.cz
DTSTAMP:20260422T083439Z
DTSTART:20260919T090000Z
DTEND:20260919T150000Z
SUMMARY:SAFARI RUN 2026
DESCRIPTION:Běžte s námi pro dobrou věc! Srdečně Vás zveme na tradiční benefiční běh srdcem Safari Resortu\, jehož výtěžek poputuje na podporu sdružení AUTISTIA.
URL:https://www.safariresort.cz/aktuality/safari-run-2026
END:VEVENT
END:VCALENDAR
