BEGIN:VCALENDAR
VERSION:2.0
PRODID:-//event_calendar//Drupal//CZ
CALSCALE:GREGORIAN
BEGIN:VEVENT
UID:safari_autosalon@www.safariresort.cz
DTSTAMP:20260422T084326Z
DTSTART:20260926T090000Z
DTEND:20260927T170000Z
SUMMARY:Safari autosalon
DESCRIPTION:Srdečně Vás zveme na dvoudenní přehlídku toho nejlepšího z českobudějovické automobilové scény – přímo uprostřed Safari Resortu!
URL:https://www.safariresort.cz/aktuality/safari-autosalon-0
END:VEVENT
END:VCALENDAR
