BEGIN:VCALENDAR
VERSION:2.0
PRODID:-//event_calendar//Drupal//CZ
CALSCALE:GREGORIAN
BEGIN:VEVENT
UID:halloween_v_safari@www.safariresort.cz
DTSTAMP:20260422T084046Z
DTSTART:20261024T100000Z
DTEND:20261024T163000Z
SUMMARY:Halloween v Safari
DESCRIPTION:Odvážíte se vstoupit? Srdečně Vás zveme na ten nejstrašidelnější den v roce do Safari Resortu! Čeká vás odpoledne plné strašidelné zábavy!
URL:https://www.safariresort.cz/aktuality/halloween-v-safari-0
END:VEVENT
END:VCALENDAR
