BEGIN:VCALENDAR
VERSION:2.0
PRODID:-//event_calendar//Drupal//CZ
CALSCALE:GREGORIAN
BEGIN:VEVENT
UID:farmarske_trhy_v_safari@www.safariresort.cz
DTSTAMP:20260422T084219Z
DTSTART:20261003T090000Z
DTEND:20261003T160000Z
SUMMARY:Farmářské trhy v Safari
DESCRIPTION:Srdečně Vás zveme na Farmářské trhy do Safari Resortu! Přijďte ochutnat ty nejlepší dobroty od místních farmářů v jedinečném prostředí plném přírody a zvířat.
URL:https://www.safariresort.cz/aktuality/farmarske-trhy-v-safari
END:VEVENT
END:VCALENDAR
