BEGIN:VCALENDAR
VERSION:2.0
PRODID:-//event_calendar//Drupal//CZ
CALSCALE:GREGORIAN
BEGIN:VEVENT
UID:den_se_stibusem_den_pro_bezpecnost@www.safariresort.cz
DTSTAMP:20260422T084017Z
DTSTART:20260917T120000Z
DTEND:20260917T140000Z
SUMMARY:Den se StiBusem - den pro bezpečnost
DESCRIPTION:Srdečně Vás zveme na jedinečnou akci\, kde se děti zábavnou a hravou formou naučí\, jak být v bezpečí na silnicích i v každodenním životě!
URL:https://www.safariresort.cz/aktuality/den-se-stibusem-den-pro-bezpecnost
END:VEVENT
END:VCALENDAR
