BEGIN:VCALENDAR
VERSION:2.0
PRODID:-//event_calendar//Drupal//CZ
CALSCALE:GREGORIAN
BEGIN:VEVENT
UID:den_deti_na_safari@www.safariresort.cz
DTSTAMP:20260422T084211Z
DTSTART:20260531T100000Z
DTEND:20260531T143000Z
SUMMARY:Den dětí na Safari
DESCRIPTION:Srdečně zveme všechny malé i velké děti na Den plný soutěží\, zábavy a nezapomenutelných zážitků uprostřed přírody!
URL:https://www.safariresort.cz/aktuality/den-deti-na-safari-0
END:VEVENT
END:VCALENDAR
